BEGIN:VCALENDAR
VERSION:2.0
PRODID:-//Heart Ministry Center - ECPv6.15.20//NONSGML v1.0//EN
CALSCALE:GREGORIAN
METHOD:PUBLISH
X-WR-CALNAME:Heart Ministry Center
X-ORIGINAL-URL:https://www.heartministrycenter.org
X-WR-CALDESC:Events for Heart Ministry Center
REFRESH-INTERVAL;VALUE=DURATION:PT1H
X-Robots-Tag:noindex
X-PUBLISHED-TTL:PT1H
BEGIN:VTIMEZONE
TZID:America/Chicago
BEGIN:DAYLIGHT
TZOFFSETFROM:-0600
TZOFFSETTO:-0500
TZNAME:CDT
DTSTART:20230312T080000
END:DAYLIGHT
BEGIN:STANDARD
TZOFFSETFROM:-0500
TZOFFSETTO:-0600
TZNAME:CST
DTSTART:20231105T070000
END:STANDARD
BEGIN:DAYLIGHT
TZOFFSETFROM:-0600
TZOFFSETTO:-0500
TZNAME:CDT
DTSTART:20240310T080000
END:DAYLIGHT
BEGIN:STANDARD
TZOFFSETFROM:-0500
TZOFFSETTO:-0600
TZNAME:CST
DTSTART:20241103T070000
END:STANDARD
BEGIN:DAYLIGHT
TZOFFSETFROM:-0600
TZOFFSETTO:-0500
TZNAME:CDT
DTSTART:20250309T080000
END:DAYLIGHT
BEGIN:STANDARD
TZOFFSETFROM:-0500
TZOFFSETTO:-0600
TZNAME:CST
DTSTART:20251102T070000
END:STANDARD
BEGIN:DAYLIGHT
TZOFFSETFROM:-0600
TZOFFSETTO:-0500
TZNAME:CDT
DTSTART:20260308T080000
END:DAYLIGHT
BEGIN:STANDARD
TZOFFSETFROM:-0500
TZOFFSETTO:-0600
TZNAME:CST
DTSTART:20261101T070000
END:STANDARD
BEGIN:DAYLIGHT
TZOFFSETFROM:-0600
TZOFFSETTO:-0500
TZNAME:CDT
DTSTART:20270314T080000
END:DAYLIGHT
BEGIN:STANDARD
TZOFFSETFROM:-0500
TZOFFSETTO:-0600
TZNAME:CST
DTSTART:20271107T070000
END:STANDARD
END:VTIMEZONE
BEGIN:VEVENT
DTSTART;TZID=America/Chicago:20260410T100000
DTEND;TZID=America/Chicago:20260410T120000
DTSTAMP:20260422T190456
CREATED:20220922T143904Z
LAST-MODIFIED:20220922T143904Z
UID:26573-1775815200-1775822400@www.heartministrycenter.org
SUMMARY:Lawyers in the City
DESCRIPTION:2221 Wirt Street \nLegal Advice for first come\, first serve \n(Presente traductor ingles espanol) \nCivil law questions only (no criminal law\, no appeals) \nBrief legal advice for low-income residents \nLegal resources and self-help forms \n 
URL:https://www.heartministrycenter.org/event/lawyers-in-the-city-3-2023-11-10/2026-04-10/
LOCATION:Heart Ministry Center\, 2222 Binney Street\, Omaha\, NE\, 68110\, United States
CATEGORIES:Legal
ATTACH;FMTTYPE=image/jpeg:https://www.heartministrycenter.org/wp-content/uploads/2022/06/Lawyers-in-The-CIty-1-1.jpg
ORGANIZER;CN="Linda AlSharif":MAILTO:linda@heartministrycenter.org
END:VEVENT
BEGIN:VEVENT
DTSTART;TZID=America/Chicago:20260313T100000
DTEND;TZID=America/Chicago:20260313T120000
DTSTAMP:20260422T190456
CREATED:20220922T143904Z
LAST-MODIFIED:20220922T143904Z
UID:26572-1773396000-1773403200@www.heartministrycenter.org
SUMMARY:Lawyers in the City
DESCRIPTION:2221 Wirt Street \nLegal Advice for first come\, first serve \n(Presente traductor ingles espanol) \nCivil law questions only (no criminal law\, no appeals) \nBrief legal advice for low-income residents \nLegal resources and self-help forms \n 
URL:https://www.heartministrycenter.org/event/lawyers-in-the-city-3-2023-11-10/2026-03-13/
LOCATION:Heart Ministry Center\, 2222 Binney Street\, Omaha\, NE\, 68110\, United States
CATEGORIES:Legal
ATTACH;FMTTYPE=image/jpeg:https://www.heartministrycenter.org/wp-content/uploads/2022/06/Lawyers-in-The-CIty-1-1.jpg
ORGANIZER;CN="Linda AlSharif":MAILTO:linda@heartministrycenter.org
END:VEVENT
BEGIN:VEVENT
DTSTART;TZID=America/Chicago:20260213T100000
DTEND;TZID=America/Chicago:20260213T120000
DTSTAMP:20260422T190456
CREATED:20220922T143904Z
LAST-MODIFIED:20220922T143904Z
UID:26571-1770976800-1770984000@www.heartministrycenter.org
SUMMARY:Lawyers in the City
DESCRIPTION:2221 Wirt Street \nLegal Advice for first come\, first serve \n(Presente traductor ingles espanol) \nCivil law questions only (no criminal law\, no appeals) \nBrief legal advice for low-income residents \nLegal resources and self-help forms \n 
URL:https://www.heartministrycenter.org/event/lawyers-in-the-city-3-2023-11-10/2026-02-13/
LOCATION:Heart Ministry Center\, 2222 Binney Street\, Omaha\, NE\, 68110\, United States
CATEGORIES:Legal
ATTACH;FMTTYPE=image/jpeg:https://www.heartministrycenter.org/wp-content/uploads/2022/06/Lawyers-in-The-CIty-1-1.jpg
ORGANIZER;CN="Linda AlSharif":MAILTO:linda@heartministrycenter.org
END:VEVENT
BEGIN:VEVENT
DTSTART;TZID=America/Chicago:20260109T100000
DTEND;TZID=America/Chicago:20260109T120000
DTSTAMP:20260422T190456
CREATED:20220922T143904Z
LAST-MODIFIED:20220922T143904Z
UID:26570-1767952800-1767960000@www.heartministrycenter.org
SUMMARY:Lawyers in the City
DESCRIPTION:2221 Wirt Street \nLegal Advice for first come\, first serve \n(Presente traductor ingles espanol) \nCivil law questions only (no criminal law\, no appeals) \nBrief legal advice for low-income residents \nLegal resources and self-help forms \n 
URL:https://www.heartministrycenter.org/event/lawyers-in-the-city-3-2023-11-10/2026-01-09/
LOCATION:Heart Ministry Center\, 2222 Binney Street\, Omaha\, NE\, 68110\, United States
CATEGORIES:Legal
ATTACH;FMTTYPE=image/jpeg:https://www.heartministrycenter.org/wp-content/uploads/2022/06/Lawyers-in-The-CIty-1-1.jpg
ORGANIZER;CN="Linda AlSharif":MAILTO:linda@heartministrycenter.org
END:VEVENT
BEGIN:VEVENT
DTSTART;TZID=America/Chicago:20251212T100000
DTEND;TZID=America/Chicago:20251212T120000
DTSTAMP:20260422T190456
CREATED:20220922T143904Z
LAST-MODIFIED:20220922T143904Z
UID:26569-1765533600-1765540800@www.heartministrycenter.org
SUMMARY:Lawyers in the City
DESCRIPTION:2221 Wirt Street \nLegal Advice for first come\, first serve \n(Presente traductor ingles espanol) \nCivil law questions only (no criminal law\, no appeals) \nBrief legal advice for low-income residents \nLegal resources and self-help forms \n 
URL:https://www.heartministrycenter.org/event/lawyers-in-the-city-3-2023-11-10/2025-12-12/
LOCATION:Heart Ministry Center\, 2222 Binney Street\, Omaha\, NE\, 68110\, United States
CATEGORIES:Legal
ATTACH;FMTTYPE=image/jpeg:https://www.heartministrycenter.org/wp-content/uploads/2022/06/Lawyers-in-The-CIty-1-1.jpg
ORGANIZER;CN="Linda AlSharif":MAILTO:linda@heartministrycenter.org
END:VEVENT
BEGIN:VEVENT
DTSTART;TZID=America/Chicago:20251114T100000
DTEND;TZID=America/Chicago:20251114T120000
DTSTAMP:20260422T190456
CREATED:20220922T143904Z
LAST-MODIFIED:20220922T143904Z
UID:26568-1763114400-1763121600@www.heartministrycenter.org
SUMMARY:Lawyers in the City
DESCRIPTION:2221 Wirt Street \nLegal Advice for first come\, first serve \n(Presente traductor ingles espanol) \nCivil law questions only (no criminal law\, no appeals) \nBrief legal advice for low-income residents \nLegal resources and self-help forms \n 
URL:https://www.heartministrycenter.org/event/lawyers-in-the-city-3-2023-11-10/2025-11-14/
LOCATION:Heart Ministry Center\, 2222 Binney Street\, Omaha\, NE\, 68110\, United States
CATEGORIES:Legal
ATTACH;FMTTYPE=image/jpeg:https://www.heartministrycenter.org/wp-content/uploads/2022/06/Lawyers-in-The-CIty-1-1.jpg
ORGANIZER;CN="Linda AlSharif":MAILTO:linda@heartministrycenter.org
END:VEVENT
BEGIN:VEVENT
DTSTART;TZID=America/Chicago:20251010T100000
DTEND;TZID=America/Chicago:20251010T120000
DTSTAMP:20260422T190456
CREATED:20220922T143904Z
LAST-MODIFIED:20220922T143904Z
UID:26567-1760090400-1760097600@www.heartministrycenter.org
SUMMARY:Lawyers in the City
DESCRIPTION:2221 Wirt Street \nLegal Advice for first come\, first serve \n(Presente traductor ingles espanol) \nCivil law questions only (no criminal law\, no appeals) \nBrief legal advice for low-income residents \nLegal resources and self-help forms \n 
URL:https://www.heartministrycenter.org/event/lawyers-in-the-city-3-2023-11-10/2025-10-10/
LOCATION:Heart Ministry Center\, 2222 Binney Street\, Omaha\, NE\, 68110\, United States
CATEGORIES:Legal
ATTACH;FMTTYPE=image/jpeg:https://www.heartministrycenter.org/wp-content/uploads/2022/06/Lawyers-in-The-CIty-1-1.jpg
ORGANIZER;CN="Linda AlSharif":MAILTO:linda@heartministrycenter.org
END:VEVENT
BEGIN:VEVENT
DTSTART;TZID=America/Chicago:20251003T100000
DTEND;TZID=America/Chicago:20251003T120000
DTSTAMP:20260422T190456
CREATED:20220922T143904Z
LAST-MODIFIED:20250924T181229Z
UID:19437-1759485600-1759492800@www.heartministrycenter.org
SUMMARY:Lawyers in the City
DESCRIPTION:2221 Wirt Street \nLegal Advice for first come\, first serve \n(Presente traductor ingles espanol) \nCivil law questions only (no criminal law\, no appeals) \nBrief legal advice for low-income residents \nLegal resources and self-help forms \n 
URL:https://www.heartministrycenter.org/event/lawyers-in-the-city-3-2023-11-10/2025-10-03/
LOCATION:Heart Ministry Center\, 2222 Binney Street\, Omaha\, NE\, 68110\, United States
CATEGORIES:Legal
ATTACH;FMTTYPE=image/jpeg:https://www.heartministrycenter.org/wp-content/uploads/2022/06/Lawyers-in-The-CIty-1-1.jpg
ORGANIZER;CN="Linda AlSharif":MAILTO:linda@heartministrycenter.org
END:VEVENT
BEGIN:VEVENT
DTSTART;TZID=America/Chicago:20240426T100000
DTEND;TZID=America/Chicago:20240426T120000
DTSTAMP:20260422T190456
CREATED:20240304T154641Z
LAST-MODIFIED:20240304T154641Z
UID:23648-1714125600-1714132800@www.heartministrycenter.org
SUMMARY:Budgeting Class with Lending Link
DESCRIPTION:Learn how to balance your household budget. \nClass offered in English at 10:00 a.m.\, and class offered in Spanish at 11:15 a.m. \nJoin us in the south conference room at Heart Ministry Center. \nWalk-ins are welcome; no appointment necessary. Please contact Maria Ramirez with any questions at mariar@heartministrycenter.org. \nThank you to Lending Link!
URL:https://www.heartministrycenter.org/event/budgeting-class-with-lending-link-4/
LOCATION:Heart Ministry Center\, 2222 Binney Street\, Omaha\, NE\, 68110\, United States
CATEGORIES:Class
ATTACH;FMTTYPE=image/jpeg:https://www.heartministrycenter.org/wp-content/uploads/2023/04/Budget-Class-300x300-1.jpg
ORGANIZER;CN="Maria Ramirez":MAILTO:daniel@heartministrycenter.org
END:VEVENT
END:VCALENDAR