BEGIN:VCALENDAR
VERSION:2.0
PRODID:-//Heart Ministry Center - ECPv6.15.20//NONSGML v1.0//EN
CALSCALE:GREGORIAN
METHOD:PUBLISH
X-WR-CALNAME:Heart Ministry Center
X-ORIGINAL-URL:https://www.heartministrycenter.org
X-WR-CALDESC:Events for Heart Ministry Center
REFRESH-INTERVAL;VALUE=DURATION:PT1H
X-Robots-Tag:noindex
X-PUBLISHED-TTL:PT1H
BEGIN:VTIMEZONE
TZID:America/Chicago
BEGIN:DAYLIGHT
TZOFFSETFROM:-0600
TZOFFSETTO:-0500
TZNAME:CDT
DTSTART:20240310T080000
END:DAYLIGHT
BEGIN:STANDARD
TZOFFSETFROM:-0500
TZOFFSETTO:-0600
TZNAME:CST
DTSTART:20241103T070000
END:STANDARD
BEGIN:DAYLIGHT
TZOFFSETFROM:-0600
TZOFFSETTO:-0500
TZNAME:CDT
DTSTART:20250309T080000
END:DAYLIGHT
BEGIN:STANDARD
TZOFFSETFROM:-0500
TZOFFSETTO:-0600
TZNAME:CST
DTSTART:20251102T070000
END:STANDARD
BEGIN:DAYLIGHT
TZOFFSETFROM:-0600
TZOFFSETTO:-0500
TZNAME:CDT
DTSTART:20260308T080000
END:DAYLIGHT
BEGIN:STANDARD
TZOFFSETFROM:-0500
TZOFFSETTO:-0600
TZNAME:CST
DTSTART:20261101T070000
END:STANDARD
END:VTIMEZONE
BEGIN:VEVENT
DTSTART;TZID=America/Chicago:20250604T100000
DTEND;TZID=America/Chicago:20250604T110000
DTSTAMP:20260423T062904
CREATED:20230727T192124Z
LAST-MODIFIED:20250305T034040Z
UID:24897-1749031200-1749034800@www.heartministrycenter.org
SUMMARY:Way Forward Orientation - Español
DESCRIPTION:Ayuda para los miembros de la comunidad que tienen dificultades para pagar las facturas de su casa. \n¡La orientación es el comienzo de un mejor Camino a Seguir! \n(Fechas sujetas a cambios por vacaciones)
URL:https://www.heartministrycenter.org/event/way-forward-orientation-espanol/2025-06-04/
LOCATION:NE
ATTACH;FMTTYPE=image/png:https://www.heartministrycenter.org/wp-content/uploads/2023/07/orientation-hmc.png
ORGANIZER;CN="Linda AlSharif":MAILTO:linda@heartministrycenter.org
END:VEVENT
BEGIN:VEVENT
DTSTART;TZID=America/Chicago:20250604T130000
DTEND;TZID=America/Chicago:20250604T140000
DTSTAMP:20260423T062904
CREATED:20220617T224623Z
LAST-MODIFIED:20251121T201443Z
UID:24929-1749042000-1749045600@www.heartministrycenter.org
SUMMARY:A Way Forward Orientation
DESCRIPTION:The Willing Partner program will work with you on a long-term solution to put you on the road to sufficiency. \nWe will further discuss all the programs and resources offered at Heart Ministry Center. \nThe orientation is the start of a better Way Forward! \n(Dates subject to change due to holidays)
URL:https://www.heartministrycenter.org/event/way-forward-orientation-6/2025-06-04/
LOCATION:NE
ATTACH;FMTTYPE=image/png:https://www.heartministrycenter.org/wp-content/uploads/2023/07/orientation-hmc.png
ORGANIZER;CN="Rayna Pollock":MAILTO:rayna@heartministrycenter.org
END:VEVENT
BEGIN:VEVENT
DTSTART;TZID=America/Chicago:20250616T093000
DTEND;TZID=America/Chicago:20250616T110000
DTSTAMP:20260423T062904
CREATED:20241114T215452Z
LAST-MODIFIED:20250404T151747Z
UID:24697-1750066200-1750071600@www.heartministrycenter.org
SUMMARY:Diaper Day at HMC
DESCRIPTION:Do you know a parent in Omaha in sincere need of diapers for their baby? \nIn collaboration with Nebraska Diaper Bank\, each third Monday of the month from 9:30am – 11:30am we will be hosting a free diaper giveaway in the lobby of HMC. \nLimited quantities available. \nChildren eligible until their third birthday. \nOnly the parent or legal guardian can pick up diapers. \n*Proof of children’s age will be required at each event.
URL:https://www.heartministrycenter.org/event/diaper-day-at-hmc/2025-06-16/
LOCATION:Heart Ministry Center\, 2222 Binney Street\, Omaha\, NE\, 68110\, United States
ATTACH;FMTTYPE=image/png:https://www.heartministrycenter.org/wp-content/uploads/2024/11/HMC-calendar-diaper-copy-1.png
END:VEVENT
BEGIN:VEVENT
DTSTART;TZID=America/Chicago:20250620T140000
DTEND;TZID=America/Chicago:20250620T150000
DTSTAMP:20260423T062904
CREATED:20250116T172149Z
LAST-MODIFIED:20250116T172149Z
UID:25000-1750428000-1750431600@www.heartministrycenter.org
SUMMARY:Women's Empowerment Group
DESCRIPTION:Empower yourself to live a healthy sustainable life. ❤️ \nIn February 2025\, Heart Ministry Center will be starting a Women’s Empowerment Group.\nThis group will meet on the third Friday of each month in the South Conference room at HMC (2222 Binney Street). \nThey will meet from 2 – 3pm. \nThis group will cover topics such as: unhealthy relationships\, self-care\, finances\, and much more. \nFor any questions or more information please contact Alejandra at alejandrac@heartministrycenter.com
URL:https://www.heartministrycenter.org/event/womens-empowerment-group/2025-06-20/
LOCATION:Heart Ministry Center\, 2222 Binney Street\, Omaha\, NE\, 68110\, United States
ATTACH;FMTTYPE=image/png:https://www.heartministrycenter.org/wp-content/uploads/2025/01/Empowerment_2025_Flyer-e1737048023774.png
END:VEVENT
END:VCALENDAR