BEGIN:VCALENDAR
VERSION:2.0
PRODID:-//Heart Ministry Center - ECPv6.15.20//NONSGML v1.0//EN
CALSCALE:GREGORIAN
METHOD:PUBLISH
X-WR-CALNAME:Heart Ministry Center
X-ORIGINAL-URL:https://www.heartministrycenter.org
X-WR-CALDESC:Events for Heart Ministry Center
REFRESH-INTERVAL;VALUE=DURATION:PT1H
X-Robots-Tag:noindex
X-PUBLISHED-TTL:PT1H
BEGIN:VTIMEZONE
TZID:America/Chicago
BEGIN:DAYLIGHT
TZOFFSETFROM:-0600
TZOFFSETTO:-0500
TZNAME:CDT
DTSTART:20230312T080000
END:DAYLIGHT
BEGIN:STANDARD
TZOFFSETFROM:-0500
TZOFFSETTO:-0600
TZNAME:CST
DTSTART:20231105T070000
END:STANDARD
BEGIN:DAYLIGHT
TZOFFSETFROM:-0600
TZOFFSETTO:-0500
TZNAME:CDT
DTSTART:20240310T080000
END:DAYLIGHT
BEGIN:STANDARD
TZOFFSETFROM:-0500
TZOFFSETTO:-0600
TZNAME:CST
DTSTART:20241103T070000
END:STANDARD
BEGIN:DAYLIGHT
TZOFFSETFROM:-0600
TZOFFSETTO:-0500
TZNAME:CDT
DTSTART:20250309T080000
END:DAYLIGHT
BEGIN:STANDARD
TZOFFSETFROM:-0500
TZOFFSETTO:-0600
TZNAME:CST
DTSTART:20251102T070000
END:STANDARD
END:VTIMEZONE
BEGIN:VEVENT
DTSTART;TZID=America/Chicago:20240829T173000
DTEND;TZID=America/Chicago:20240829T210000
DTSTAMP:20260423T003839
CREATED:20240611T184451Z
LAST-MODIFIED:20240611T184451Z
UID:24056-1724952600-1724965200@www.heartministrycenter.org
SUMMARY:Holy Smokes Fundraiser BBQ
DESCRIPTION:Getting the Band Back Together\n\n\n\n\n\n\n\nDust off your tambourine and turn your amp to 11\, Heart Ministry Center is Getting the Band Back Together for the 19th Annual Holy Smokes Fundraiser. Show your support for our mission of providing food\, healthcare and a way forward to people severely affected by poverty in the Omaha area and be a part of this rockin’ event. Enjoy custom Holy Smokes shirts\, live music\, cocktails and the best-tasting BBQ that will leave you shouting for an encore.
URL:https://www.heartministrycenter.org/event/holysmokes2024/
LOCATION:Steelhouse Omaha\, 1100 Dodge St\, Omaha\, NE\, 68102\, United States
CATEGORIES:Event,Main
ATTACH;FMTTYPE=image/jpeg:https://www.heartministrycenter.org/wp-content/uploads/2024/06/HMC_24HolySmokes_webgraphic2.jpg
END:VEVENT
END:VCALENDAR