BEGIN:VCALENDAR
VERSION:2.0
PRODID:-//Heart Ministry Center - ECPv6.15.20//NONSGML v1.0//EN
CALSCALE:GREGORIAN
METHOD:PUBLISH
X-WR-CALNAME:Heart Ministry Center
X-ORIGINAL-URL:https://www.heartministrycenter.org
X-WR-CALDESC:Events for Heart Ministry Center
REFRESH-INTERVAL;VALUE=DURATION:PT1H
X-Robots-Tag:noindex
X-PUBLISHED-TTL:PT1H
BEGIN:VTIMEZONE
TZID:America/Chicago
BEGIN:DAYLIGHT
TZOFFSETFROM:-0600
TZOFFSETTO:-0500
TZNAME:CDT
DTSTART:20250309T080000
END:DAYLIGHT
BEGIN:STANDARD
TZOFFSETFROM:-0500
TZOFFSETTO:-0600
TZNAME:CST
DTSTART:20251102T070000
END:STANDARD
BEGIN:DAYLIGHT
TZOFFSETFROM:-0600
TZOFFSETTO:-0500
TZNAME:CDT
DTSTART:20260308T080000
END:DAYLIGHT
BEGIN:STANDARD
TZOFFSETFROM:-0500
TZOFFSETTO:-0600
TZNAME:CST
DTSTART:20261101T070000
END:STANDARD
BEGIN:DAYLIGHT
TZOFFSETFROM:-0600
TZOFFSETTO:-0500
TZNAME:CDT
DTSTART:20270314T080000
END:DAYLIGHT
BEGIN:STANDARD
TZOFFSETFROM:-0500
TZOFFSETTO:-0600
TZNAME:CST
DTSTART:20271107T070000
END:STANDARD
END:VTIMEZONE
BEGIN:VEVENT
DTSTART;TZID=America/Chicago:20260107T100000
DTEND;TZID=America/Chicago:20260107T110000
DTSTAMP:20260422T202418
CREATED:20230727T192124Z
LAST-MODIFIED:20250702T191123Z
UID:24904-1767780000-1767783600@www.heartministrycenter.org
SUMMARY:Way Forward Orientation - Español
DESCRIPTION:Ayuda para los miembros de la comunidad que tienen dificultades para pagar las facturas de su casa. \n¡La orientación es el comienzo de un mejor Camino a Seguir! \n(Fechas sujetas a cambios por vacaciones)
URL:https://www.heartministrycenter.org/event/way-forward-orientation-espanol/2026-01-07/
LOCATION:NE
ATTACH;FMTTYPE=image/png:https://www.heartministrycenter.org/wp-content/uploads/2023/07/orientation-hmc.png
ORGANIZER;CN="Linda AlSharif":MAILTO:linda@heartministrycenter.org
END:VEVENT
BEGIN:VEVENT
DTSTART;TZID=America/Chicago:20260107T130000
DTEND;TZID=America/Chicago:20260107T140000
DTSTAMP:20260422T202418
CREATED:20220617T224623Z
LAST-MODIFIED:20250702T190714Z
UID:24936-1767790800-1767794400@www.heartministrycenter.org
SUMMARY:Way Forward Orientation
DESCRIPTION:Help for community members who are struggling to pay their house bills. \nThe orientation is the start of a better Way Forward! \n(Dates subject to change due to holidays)
URL:https://www.heartministrycenter.org/event/way-forward-orientation-6/2026-01-07/
LOCATION:NE
ATTACH;FMTTYPE=image/png:https://www.heartministrycenter.org/wp-content/uploads/2023/07/orientation-hmc.png
ORGANIZER;CN="Linda AlSharif":MAILTO:linda@heartministrycenter.org
END:VEVENT
BEGIN:VEVENT
DTSTART;TZID=America/Chicago:20260107T150000
DTEND;TZID=America/Chicago:20260107T170000
DTSTAMP:20260422T202418
CREATED:20251103T204757Z
LAST-MODIFIED:20251103T204757Z
UID:26729-1767798000-1767805200@www.heartministrycenter.org
SUMMARY:Al-Anon Meetings
DESCRIPTION:Has your life been affected by someone else’s drinking or drug use? \nThis group is for people whose lives have been affected by someone else’s addiction.  \nAl-Anon can bring positive changes to your life\, whether or not the addict admits the existence of an addiction or seeks help. \nThis group will meet Wednesday afternoons at 3:00pm in the Community Classroom at Heart Ministry Center.
URL:https://www.heartministrycenter.org/event/al-anon-meetings/2026-01-07/
LOCATION:Heart Ministry Center\, 2222 Binney Street\, Omaha\, NE\, 68110\, United States
ATTACH;FMTTYPE=image/png:https://www.heartministrycenter.org/wp-content/uploads/2025/11/Al-Anon-Meetings.png
END:VEVENT
END:VCALENDAR