BEGIN:VCALENDAR
VERSION:2.0
PRODID:-//Heart Ministry Center - ECPv6.15.20//NONSGML v1.0//EN
CALSCALE:GREGORIAN
METHOD:PUBLISH
X-ORIGINAL-URL:https://www.heartministrycenter.org
X-WR-CALDESC:Events for Heart Ministry Center
REFRESH-INTERVAL;VALUE=DURATION:PT1H
X-Robots-Tag:noindex
X-PUBLISHED-TTL:PT1H
BEGIN:VTIMEZONE
TZID:America/Chicago
BEGIN:DAYLIGHT
TZOFFSETFROM:-0600
TZOFFSETTO:-0500
TZNAME:CDT
DTSTART:20240310T080000
END:DAYLIGHT
BEGIN:STANDARD
TZOFFSETFROM:-0500
TZOFFSETTO:-0600
TZNAME:CST
DTSTART:20241103T070000
END:STANDARD
BEGIN:DAYLIGHT
TZOFFSETFROM:-0600
TZOFFSETTO:-0500
TZNAME:CDT
DTSTART:20250309T080000
END:DAYLIGHT
BEGIN:STANDARD
TZOFFSETFROM:-0500
TZOFFSETTO:-0600
TZNAME:CST
DTSTART:20251102T070000
END:STANDARD
BEGIN:DAYLIGHT
TZOFFSETFROM:-0600
TZOFFSETTO:-0500
TZNAME:CDT
DTSTART:20260308T080000
END:DAYLIGHT
BEGIN:STANDARD
TZOFFSETFROM:-0500
TZOFFSETTO:-0600
TZNAME:CST
DTSTART:20261101T070000
END:STANDARD
END:VTIMEZONE
BEGIN:VEVENT
DTSTART;TZID=America/Chicago:20251105T100000
DTEND;TZID=America/Chicago:20251105T110000
DTSTAMP:20260423T014847
CREATED:20230727T192124Z
LAST-MODIFIED:20250305T034043Z
UID:24902-1762336800-1762340400@www.heartministrycenter.org
SUMMARY:Way Forward Orientation - Español
DESCRIPTION:Ayuda para los miembros de la comunidad que tienen dificultades para pagar las facturas de su casa. \n¡La orientación es el comienzo de un mejor Camino a Seguir! \n(Fechas sujetas a cambios por vacaciones)
URL:https://www.heartministrycenter.org/event/way-forward-orientation-espanol/2025-11-05/
LOCATION:NE
ATTACH;FMTTYPE=image/png:https://www.heartministrycenter.org/wp-content/uploads/2023/07/orientation-hmc.png
ORGANIZER;CN="Linda AlSharif":MAILTO:linda@heartministrycenter.org
END:VEVENT
BEGIN:VEVENT
DTSTART;TZID=America/Chicago:20251105T130000
DTEND;TZID=America/Chicago:20251105T140000
DTSTAMP:20260423T014847
CREATED:20220617T224623Z
LAST-MODIFIED:20250305T033932Z
UID:24934-1762347600-1762351200@www.heartministrycenter.org
SUMMARY:Way Forward Orientation
DESCRIPTION:Help for community members who are struggling to pay their house bills. \nThe orientation is the start of a better Way Forward! \n(Dates subject to change due to holidays)
URL:https://www.heartministrycenter.org/event/way-forward-orientation-6/2025-11-05/
LOCATION:NE
ATTACH;FMTTYPE=image/png:https://www.heartministrycenter.org/wp-content/uploads/2023/07/orientation-hmc.png
ORGANIZER;CN="Linda AlSharif":MAILTO:linda@heartministrycenter.org
END:VEVENT
BEGIN:VEVENT
DTSTART;TZID=America/Chicago:20251105T150000
DTEND;TZID=America/Chicago:20251105T170000
DTSTAMP:20260423T014847
CREATED:20251103T204757Z
LAST-MODIFIED:20251103T205043Z
UID:26717-1762354800-1762362000@www.heartministrycenter.org
SUMMARY:Al-Anon Meetings
DESCRIPTION:Has your life been affected by someone else’s drinking or drug use? \nThis group is for people whose lives have been affected by someone else’s addiction.  \nAl-Anon can bring positive changes to your life\, whether or not the addict admits the existence of an addiction or seeks help. \nThis group will meet Wednesday afternoons at 3:00pm in the Community Classroom at Heart Ministry Center.
URL:https://www.heartministrycenter.org/event/al-anon-meetings/2025-11-05/
LOCATION:Heart Ministry Center\, 2222 Binney Street\, Omaha\, NE\, 68110\, United States
ATTACH;FMTTYPE=image/png:https://www.heartministrycenter.org/wp-content/uploads/2025/11/Al-Anon-Meetings.png
END:VEVENT
END:VCALENDAR